BEGIN:VCALENDAR
VERSION:2.0
PRODID:-//Diözesanarchiv Berlin [DAB] - ECPv5.16.1.1//NONSGML v1.0//EN
CALSCALE:GREGORIAN
METHOD:PUBLISH
X-WR-CALNAME:Diözesanarchiv Berlin [DAB]
X-ORIGINAL-URL:https://www.dioezesanarchiv-berlin.de
X-WR-CALDESC:Veranstaltungen für Diözesanarchiv Berlin [DAB]
BEGIN:VTIMEZONE
TZID:Europe/Berlin
BEGIN:DAYLIGHT
TZOFFSETFROM:+0100
TZOFFSETTO:+0200
TZNAME:CEST
DTSTART:20230326T010000
END:DAYLIGHT
BEGIN:STANDARD
TZOFFSETFROM:+0200
TZOFFSETTO:+0100
TZNAME:CET
DTSTART:20231029T010000
END:STANDARD
END:VTIMEZONE
BEGIN:VEVENT
DTSTART;TZID=Europe/Berlin:20230105T173000
DTEND;TZID=Europe/Berlin:20230105T180000
DTSTAMP:20260421T103207
CREATED:20230101T142253Z
LAST-MODIFIED:20230101T144705Z
UID:20638-1672939800-1672941600@www.dioezesanarchiv-berlin.de
SUMMARY:Abendgebet im Sinne des Seligen Bernhard Lichtenberg
DESCRIPTION:Abendgebet im Sinne des Seligen Bernhard Lichtenberg und Einzelsegnung
URL:https://www.dioezesanarchiv-berlin.de/veranstaltung/abendgebet-im-sinne-des-seligen-bernhard-lichtenberg-6/
LOCATION:Stadtpfarrkirche St. Marien\, Bernhard-Lichtenberg-Platz 2\, Hof\, 95028\, Deutschland
CATEGORIES:Bernhard-Lichtenberg-Abendgebet,Bernhard-Lichtenberg-Gedenken
END:VEVENT
END:VCALENDAR